BEGIN:VCALENDAR
VERSION:2.0
PRODID:-//ChamberMaster//Event Calendar 2.0//EN
METHOD:PUBLISH
X-PUBLISHED-TTL:P3D
REFRESH-INTERVAL:P3D
CALSCALE:GREGORIAN
BEGIN:VEVENT
DTSTART:20251025T160000Z
DTEND:20251025T200000Z
X-MICROSOFT-CDO-ALLDAYEVENT:FALSE
SUMMARY:Stratford Schools' October 2025 Open House
DESCRIPTION:Stratford Schools Open House   October 25\, 2025 | 9:00 AM   1:00 PM\n\nJoin us for Stratford Schools' Open House on Saturday\, October 25\, 2025\, from 9:00 AM to 1:00 PM\, and explore what sets us apart in education. Join us for Stratford Schools' Open House to explore what makes Stratford an exceptional education.  Stratford offers a balanced STEAM curriculum that not only emphasizes academics and the arts but also social-emotional learning\, critical thinking\, and character development.\n\nCampus Highlights:\n\n\n	\n	Stratford 14th Ave. (Richmond District)\n\n	Offers Mandarin bilingual programming for students in Preschool through 5th grade.\n\n	 \n	\n	\n	Stratford De Montfort (Ingleside)\n\n	Features Spanish and Mandarin specialty classes tailored for Preschool through 5th grade\, designed to spark curiosity and creativity.\n\n	 \n	\n	\n	Stratford Parkside (Parkside)\n\n	An Early Childhood Education-centered campus that also offers Mandarin bilingual programming and Spanish specialty classes.\n\n	 \n	\n	\n	Stratford Middle School (Excelsior)\n\n	Provides specialty classes in both Mandarin and Spanish\, supporting language enrichment in the middle school years.\n\n	 \n	\n\n\nCome tour our classrooms\, meet our passionate educators\, and discover the vibrant\, creative\, and academically-driven environment Stratford offers at each unique campus. We look forward to welcoming you on October 25!\n\n*Open House Tours are by appointment only!
X-ALT-DESC;FMTTYPE=text/html:<h3><span style="font-family:arial\,sans-serif\; font-size:13pt">Stratford Schools Open House &ndash\; October 25\, 2025 | 9:00 AM &ndash\; 1:00 PM</span></h3>\n\n<p><span style="font-family:arial\,sans-serif\; font-size:11pt">Join us for Stratford Schools&rsquo\; </span><strong>Open House</strong><span style="font-family:arial\,sans-serif\; font-size:11pt"> on </span><strong>Saturday\, October 25\, 2025</strong><span style="font-family:arial\,sans-serif\; font-size:11pt">\, from </span><strong>9:00 AM to 1:00 PM</strong><span style="font-family:arial\,sans-serif\; font-size:11pt">\, and explore what sets us apart in education. Join us for Stratford Schools&rsquo\; Open House to explore what makes Stratford an exceptional education.&nbsp\; Stratford offers a balanced STEAM curriculum that not only emphasizes academics and the arts but also social-emotional learning\, critical thinking\, and character development.</span></p>\n\n<h4><span style="font-family:arial\,sans-serif\; font-size:11pt">Campus Highlights:</span></h4>\n\n<ul>\n	<li>\n	<p><strong>Stratford 14th Ave.</strong><span style="font-size:11pt"> </span><em>(Richmond District)</em><br />\n	<span style="font-size:11pt">Offers </span><strong>Mandarin bilingual programming</strong><span style="font-size:11pt"> for students in </span><strong>Preschool through 5th grade</strong><span style="font-size:11pt">.</span><br />\n	&nbsp\;</p>\n	</li>\n	<li>\n	<p><strong>Stratford De Montfort</strong><span style="font-size:11pt"> </span><em>(Ingleside)</em><br />\n	<span style="font-size:11pt">Features </span><strong>Spanish and Mandarin specialty classes</strong><span style="font-size:11pt"> tailored for </span><strong>Preschool through 5th grade</strong><span style="font-size:11pt">\, designed to spark curiosity and creativity.</span><br />\n	&nbsp\;</p>\n	</li>\n	<li>\n	<p><strong>Stratford Parkside</strong><span style="font-size:11pt"> </span><em>(Parkside)</em><br />\n	<span style="font-size:11pt">An </span><strong>Early Childhood Education-centered</strong><span style="font-size:11pt"> campus that also offers </span><strong>Mandarin bilingual programming</strong><span style="font-size:11pt"> and Spanish specialty classes.</span><br />\n	&nbsp\;</p>\n	</li>\n	<li>\n	<p><strong>Stratford Middle School</strong><span style="font-size:11pt"> </span><em>(Excelsior)</em><br />\n	<span style="font-size:11pt">Provides </span><strong>specialty classes in both Mandarin and Spanish</strong><span style="font-size:11pt">\, supporting language enrichment in the middle school years.</span><br />\n	&nbsp\;</p>\n	</li>\n</ul>\n\n<p><span style="font-family:arial\,sans-serif\; font-size:11pt">Come tour our classrooms\, meet our passionate educators\, and discover the vibrant\, creative\, and academically-driven environment Stratford offers at each unique campus. We look forward to welcoming you on October 25!<br />\n<strong>*Open House Tours are by appointment only!</strong></span></p>\n
LOCATION:Stratford San Francisco 14th Ave. School 645 14th Ave. San Francisco\, CA 94118 Stratford San Francisco De Montfort School 301 De Montfort Ave. San Francisco\, CA 94112 Stratford San Francisco Parkside School 2425 19th Ave. San Francisco\, CA 94116 Stratford San Francisco Middle School 75 Francis St. San Francisco\, CA 94112 *Open House Tours are by appointment only!
UID:e.2439.12832
SEQUENCE:3
DTSTAMP:20260422T065302Z
URL:https://business.sfchamber.com/events/details/stratford-schools-october-open-house-12832
END:VEVENT

END:VCALENDAR
