BEGIN:VCALENDAR
VERSION:2.0
PRODID:-//ChamberMaster//Event Calendar 2.0//EN
METHOD:PUBLISH
X-PUBLISHED-TTL:P3D
REFRESH-INTERVAL:P3D
CALSCALE:GREGORIAN
BEGIN:VEVENT
DTSTART:20260331T183000Z
DTEND:20260331T200000Z
X-MICROSOFT-CDO-ALLDAYEVENT:FALSE
SUMMARY:SF Fire Credit Union's Inaugural Nonprofit Leadership Roundtable Luncheon
DESCRIPTION:San Francisco Fire Credit Union has proudly served the Bay Area since 1951. Celebrating our 75th Anniversary year\, SF Fire Credit Union is expanding our community impact and partnerships with nonprofit organizations. Join us for this exclusive\, invite-only Nonprofit Leadership Roundtable Luncheon hosted at the SF Chamber of Commerce Boardroom in San Francisco on March 31st from 11:30 AM-1 PM.\n\n\n\nParticipants will have the opportunity to network with nonprofit leaders and the SF Fire Credit Union team as we facilitate a leadership roundtable to brainstorm effective strategies to help nonprofits continue their vital missions in uncertain times. The SF Fire Credit Union leadership team welcomes your feedback during this roundtable to learn how we can continue supporting nonprofits with innovative products\, services\, and training resources. Lunch will also be provided from La Cocina\, a SF based nonprofit.\n\n\n\nIf you are a nonprofit CEO\, Executive Director\, CFO\, or Chief Programs Officer please reach out to Drew Aversa\, VP of Business Development at SF Fire CU to express your interest in attending our inaugural nonprofit leadership luncheon Email: daversa@sffirecu.org\n\n\n\nAGENDA\n\n11:30 AM-11:40 AM Opening remarks and overview of SF Fire CU Community Impact \n\n11:40 AM-12 PM The State of Nonprofits in 2026 and Beyond - Keynote presented by Dr. Micah Weinberg \n\n12 PM-1 PM Lunch and Leadership Roundtable with Facilitated Discussions \n1 PM Distribution of SF Fire Credit Union commemorative gift to all participants
X-ALT-DESC;FMTTYPE=text/html:<div><strong>San Francisco Fire Credit Union </strong>has proudly served the Bay Area since 1951. Celebrating our 75th Anniversary year\, SF Fire Credit Union is expanding our community impact and partnerships with nonprofit organizations. Join us for this exclusive\, <em>invite-only </em><strong>Nonprofit Leadership Roundtable Luncheon</strong> hosted at the SF Chamber of Commerce Boardroom in San Francisco on <strong>March 31st from 11:30 AM-1 PM</strong>.<br />\n<br />\nParticipants will have the opportunity to network with nonprofit leaders and the SF Fire Credit Union team as we facilitate a leadership roundtable to brainstorm effective strategies to help nonprofits continue their vital missions in uncertain times. The SF Fire Credit Union leadership team welcomes your feedback during this roundtable to learn how we can continue supporting nonprofits with innovative products\, services\, and training resources. Lunch will also be provided from La Cocina\, a SF based nonprofit.<br />\n<br />\nIf you are a nonprofit CEO\, Executive Director\, CFO\, or Chief Programs Officer please reach out to Drew Aversa\, VP of Business Development at SF Fire CU to express your interest in attending our inaugural nonprofit leadership luncheon Email: <a href="mailto:daversa@sffirecu.org?subject=SF%20Fire%20Credit%20Union's%20Inaugural%20Nonprofit%20Leadership%20Roundtable%20Luncheon">daversa@sffirecu.org</a><br />\n<br />\n<strong>AGENDA</strong></div>\n\n<p><strong>11:30 AM-11:40 AM</strong> Opening remarks and overview of SF Fire CU Community Impact&nbsp\;</p>\n\n<p><strong>11:40 AM-12 PM </strong>The State of Nonprofits in 2026 and Beyond - Keynote presented by Dr. Micah Weinberg&nbsp\;</p>\n\n<p><strong>12 PM-1 PM </strong>Lunch and Leadership Roundtable with Facilitated Discussions&nbsp\;</p>\n<span style="font-family:arial\,helvetica\,sans-serif"><strong>1 PM</strong> Distribution of SF Fire Credit Union commemorative gift to all participants&nbsp\;</span><br />\n&nbsp\;
LOCATION:San Francisco Chamber of Commerce Boardroom - Private Event with RSVP Required.
UID:e.2439.13223
SEQUENCE:3
DTSTAMP:20260421T194603Z
URL:https://business.sfchamber.com/events/details/sf-fire-credit-union-s-inagural-nonproft-leadership-roundtable-luncheon-13223
END:VEVENT

END:VCALENDAR
