BEGIN:VCALENDAR
VERSION:2.0
PRODID:-//ChamberMaster//Event Calendar 2.0//EN
METHOD:PUBLISH
X-PUBLISHED-TTL:P3D
REFRESH-INTERVAL:P3D
CALSCALE:GREGORIAN
BEGIN:VEVENT
DTSTART:20260611T180000Z
DTEND:20260611T190000Z
X-MICROSOFT-CDO-ALLDAYEVENT:FALSE
SUMMARY:Nonprofits: The Strategic Role of HR in Retention\, Culture\, and Mission
DESCRIPTION:Managing a community development organization or small business presents distinct challenges--from financial oversight to protecting or safeguarding your mission.\n\nFirst Citizens Bank is pleased to launch our Q2 2026 Technical Assistance Thursdays Webinar Series\, designed to support nonprofit organizations with practical guidance on key operational and program topics. Each session provides actionable insights and expert guidance.
X-ALT-DESC;FMTTYPE=text/html:<p>Managing a community development organization or small business presents distinct challenges--from financial oversight to protecting or safeguarding your mission.</p>\n\n<p>First Citizens Bank is pleased to launch our Q2 2026 Technical Assistance Thursdays Webinar Series\, designed to support nonprofit organizations with practical guidance on key operational and program topics. Each session provides actionable insights and expert guidance.</p>\n
LOCATION:Microsoft Virtual Events Powered by Teams
UID:e.2439.13250
SEQUENCE:3
DTSTAMP:20260421T213008Z
URL:https://business.sfchamber.com/events/details/nonprofits-the-strategic-role-of-hr-in-retention-culture-and-mission-06-12-2026-13250
END:VEVENT

END:VCALENDAR
