BEGIN:VCALENDAR
VERSION:2.0
PRODID:-//ChamberMaster//Event Calendar 2.0//EN
METHOD:PUBLISH
X-PUBLISHED-TTL:P3D
REFRESH-INTERVAL:P3D
CALSCALE:GREGORIAN
BEGIN:VEVENT
DTSTART:20260625T180000Z
DTEND:20260625T190000Z
X-MICROSOFT-CDO-ALLDAYEVENT:FALSE
SUMMARY:Nonprofits: Controls\, Credibility\, and Compliance: What funders look for in your financials
DESCRIPTION:Managing a community development organization or small business presents distinct challenges--from financial oversight to protecting or safeguarding your mission.\n\nFirst Citizens Bank is pleased to launch our Q2 2026 Technical Assistance Thursdays Webinar Series\, designed to support nonprofit organizations with practical guidance on key operational and program topics. Each session provides actionable insights and expert guidance.
X-ALT-DESC;FMTTYPE=text/html:<p>Managing a community development organization or small business presents distinct challenges--from financial oversight to protecting or safeguarding your mission.</p>\n\n<p>First Citizens Bank is pleased to launch our Q2 2026 Technical Assistance Thursdays Webinar Series\, designed to support nonprofit organizations with practical guidance on key operational and program topics. Each session provides actionable insights and expert guidance.</p>\n
LOCATION:Microsoft Virtual Events Powered by Teams
UID:e.2439.13252
SEQUENCE:3
DTSTAMP:20260421T212830Z
URL:https://business.sfchamber.com/events/details/nonprofits-controls-credibility-and-compliance-what-funders-look-for-in-your-financials-13252
END:VEVENT

END:VCALENDAR
