BEGIN:VCALENDAR
VERSION:2.0
PRODID:-//ChamberMaster//Event Calendar 2.0//EN
METHOD:PUBLISH
X-PUBLISHED-TTL:P3D
REFRESH-INTERVAL:P3D
CALSCALE:GREGORIAN
BEGIN:VEVENT
DTSTART:20260121T233000Z
DTEND:20260122T010000Z
X-MICROSOFT-CDO-ALLDAYEVENT:FALSE
SUMMARY:Member Orientation & Networking Event
DESCRIPTION:Member Orientation is our quarterly orientation for current\, new\, and prospective members. It offers an overview of the San Francisco Chamber of Commerce\, including our programs and events\, public policy initiatives\, sponsorship opportunities\, and immediate ways to get connected and involved.\n\n\n\nStick around after the Member Orientation and mingle with fellow attendees. Enjoy drinks and light snacks while you network.\n\n\n\nPlease arrive promptly\, Member Orientation program begins at 3:30 pm.\n\n \n\nNOTE LOCATION - ACROSS THE STREET FROM THE CHAMBER OFFICES.\n\nYes SF Headquarters - enter through Red Bay Coffee\n\n220 Montgomery Street (at Bush Street)\n\nSan Francisco\, CA 94104
X-ALT-DESC;FMTTYPE=text/html:<p background-color:="" chamber="" font-size:="" helvetica="" member="" networking="" orientation="" p="" segoe="" sf="" span="" style="margin: 8px 0px 4px\; overflow-wrap: break-word\; color: rgb(66\, 66\, 66)\; font-family: " ui="" web="" west=""><span style="font-size:16px\;"><span style="font-weight: 600\;">Member Orientation</span>&nbsp\;is our quarterly orientation&nbsp\;for current\, new\, and prospective members. It offers an overview of the San Francisco Chamber of Commerce\, including our programs and events\, public policy initiatives\, sponsorship opportunities\, and immediate ways to get connected and involved.<br />\n<br />\nStick around after the Member Orientation&nbsp\;and mingle&nbsp\;with fellow attendees.</span><span style="font-family: arial\, helvetica\, sans-serif\; font-size: 16px\;">&nbsp\;Enjoy drinks and light snacks while you network.</span><br />\n<br style="color: rgb(0\, 93\, 163)\; font-family: arial\, helvetica\, sans-serif\; font-size: 16px\;" />\n<span style="font-family: arial\, helvetica\, sans-serif\; font-size: 16px\; color: rgb(0\, 0\, 0)\;"><strong>Please arrive promptly\, Member&nbsp\;Orientation program begins at 3:30 pm.</strong></span><br />\n&nbsp\;</p>\n\n<p background-color:="" chamber="" font-size:="" helvetica="" member="" networking="" orientation="" p="" segoe="" sf="" span="" style="margin: 8px 0px 4px\; overflow-wrap: break-word\; color: rgb(66\, 66\, 66)\; font-family: " ui="" web="" west=""><span style="font-size:16px\;"><strong><span style="color: rgb(255\, 0\, 0)\;">NOTE LOCATION - ACROSS THE STREET FROM THE CHAMBER OFFICES.</span><br />\nYes SF Headquarters</strong>&nbsp\;- enter through Red Bay Coffee<br />\n<a href="https://www.google.com/maps?ht=en&amp\;key=AIzaSyAACLyaFddZFsbbsMCsSY4lq7g6N4ycArE&amp\;q=220+Montgomery+Street\,+San+Francisco\,+CA+94104" target="_blank">220 Montgomery Street (at Bush Street)<br />\nSan Francisco\, CA 94104</a></span><br />\n<br />\n<br />\n&nbsp\;</p>\n\n<div>&nbsp\;</div>\n\n<h2 style="color: rgb(0\, 93\, 163)\; font-family: arial\, helvetica\, sans-serif\; font-size: 12pt\;"><span style="font-size:26px\;"><em background-color:="" em="" font-size:="" helvetica="" segoe="" style="color: rgb(66\, 66\, 66)\; font-family: " ui="" web="" west=""><span style="font-size:26px\;"><span style="font-family:arial\;"><span style="font-size:16px\;"><em background-color:="" em="" font-size:="" helvetica="" segoe="" style="color: rgb(66\, 66\, 66)\; font-family: " ui="" web="" west=""><span style="font-size:24px\;"><span style="font-family:arial\;"><em background-color:="" div="" em="" font-size:="" helvetica="" segoe="" style="color: rgb(66\, 66\, 66)\; font-family: " ui="" web="" west=""><map id="rade_img_map_1373306482468" name="rade_img_map_1373306482468"><area coords="31\,19\,33\,21" shape="RECT" /><area coords="-1\,3\,106\,57" href="http://www.sportsbasement.com/" shape="RECT" target="_blank" /></map><map id="rade_img_map_1373306482468" name="rade_img_map_1373306482468"><area coords="31\,19\,33\,21" shape="RECT" /><area coords="-1\,3\,106\,57" href="http://www.sportsbasement.com/" shape="RECT" target="_blank" /></map></em></span></span></em></span></span></span></em></span></h2>\n
LOCATION:In-Person Event Yes SF Headquarters - enter through Red Bay Coffee 220 Montgomery Street (at Bush Street) San Francisco\, CA 94104
UID:e.2439.12860
SEQUENCE:3
DTSTAMP:20260422T012258Z
URL:https://business.sfchamber.com/events/details/member-orientation-networking-event-12860
END:VEVENT

END:VCALENDAR
