BEGIN:VCALENDAR
VERSION:2.0
PRODID:-//ChamberMaster//Event Calendar 2.0//EN
METHOD:PUBLISH
X-PUBLISHED-TTL:P3D
REFRESH-INTERVAL:P3D
CALSCALE:GREGORIAN
BEGIN:VEVENT
DTSTART:20251011T003000Z
DTEND:20251011T043000Z
X-MICROSOFT-CDO-ALLDAYEVENT:FALSE
SUMMARY:Meet Rodney (CEO) at the Rodeo
DESCRIPTION:* EVENT IS SOLD OUT *\n\n\n\nMEET RODNEY (CEO) AT THE RODEO\n\nHosted at the Historic Cow Palace\n\nOnly 15 VIP seats remaining!\n\nThis special evening is valued at $345\, offered to Chamber guests for just $89.\n\n\nABOUT THE GRAND NATIONAL RODEO\n\n\n	Rodeo Competitions: bull riding\, saddle bronc riding\, barrel racing\, team roping\, and more\n	Special Performances: trick riders\, bull jumpers\, comedy acts\, and music between events\n	Golden Circle of Champions: nightly fundraising for UCSF Benioff Children's Hospitals\n	Western Marketplace & Entertainment: food\, drinks\, shopping\, and line dancing in the North Hall\n	National Rodeo Qualifier: feeds into The American Contender Tournament in Fort Worth\, Texas\n\n\n\nSCHEDULE OF EVENTS   FRIDAY\, OCTOBER 10\n\n5:30 PM   Arrive at the Paddock Room\, a private hospitality suite with direct arena access\n\nMeet Cow Palace CEO Dr. Allison Keaney\, Grand National Artist Mart Hubbell\, Pick Up Man and Bull Fighter\n\n6:00 PM   Private Cocktail Hour in the Hunt Club\n\nAppearances by Miss Grand National Rodeo and the Roaming Hillbilly\n\n7:00 PM   Escorted to Box Seats\n\n7:30 PM   Rodeo Begins\n\n9:30 PM   Rodeo Concludes\n\n\nVIP TICKET INFORMATION\n\nExclusive Experience Admission: $89 per VIP Ticket\n\nIncludes:\n\n\n	Box Seats\n	Preferred Parking\n	Signed commemorative poster\, cocktail glass\, autographed program\n	Hunt Club Reception with two drinks and three appetizers\n\n\n\nThis evening is about more than great entertainment. It's about celebrating our community and supporting the institutions that make it strong.\n\nWe would be honored to have you with us!\n\n-Rodney Fong\, President & CEO of the San Francisco Chamber of Commerce
X-ALT-DESC;FMTTYPE=text/html:<p style="text-align: center\;"><span style="font-size:24px\;"><strong><span style="color:#FF0000\;">* EVENT IS SOLD OUT *</span></strong></span></p>\n\n<p><br />\n<span style="font-size:18px\;"><strong>MEET RODNEY (CEO) AT THE RODEO</strong></span><br />\nHosted at the Historic Cow Palace<br />\n<strong>Only 15 VIP seats remaining!</strong><br />\n<em>This special evening is valued at $345\, offered to Chamber guests for just $89.</em></p>\n\n<hr />\n<p><strong>ABOUT THE GRAND NATIONAL RODEO</strong></p>\n\n<ul>\n	<li>Rodeo Competitions: bull riding\, saddle bronc riding\, barrel racing\, team roping\, and more</li>\n	<li>Special Performances: trick riders\, bull jumpers\, comedy acts\, and music between events</li>\n	<li>Golden Circle of Champions: nightly fundraising for UCSF Benioff Children&#39\;s Hospitals</li>\n	<li>Western Marketplace &amp\; Entertainment: food\, drinks\, shopping\, and line dancing in the North Hall</li>\n	<li>National Rodeo Qualifier: feeds into The American Contender Tournament in Fort Worth\, Texas</li>\n</ul>\n\n<hr />\n<p><strong>SCHEDULE OF EVENTS &ndash\; FRIDAY\, OCTOBER 10</strong></p>\n\n<p>5:30 PM &ndash\; Arrive at the Paddock Room\, a private hospitality suite with direct arena access<br />\nMeet Cow Palace CEO Dr. Allison Keaney\, Grand National Artist Mart Hubbell\, Pick Up Man and Bull Fighter</p>\n\n<p>6:00 PM &ndash\; Private Cocktail Hour in the Hunt Club<br />\nAppearances by Miss Grand National Rodeo and the Roaming Hillbilly</p>\n\n<p>7:00 PM &ndash\; Escorted to Box Seats<br />\n7:30 PM &ndash\; Rodeo Begins<br />\n9:30 PM &ndash\; Rodeo Concludes</p>\n\n<hr />\n<p><strong>VIP TICKET INFORMATION</strong></p>\n\n<p><span style="font-size:16px\;"><strong>Exclusive Experience&nbsp\;Admission: $89 per VIP Ticket</strong></span><br />\nIncludes:</p>\n\n<ul>\n	<li>Box Seats</li>\n	<li>Preferred Parking</li>\n	<li>Signed commemorative poster\, cocktail glass\, autographed program</li>\n	<li>Hunt Club Reception with two drinks and three appetizers</li>\n</ul>\n\n<hr />\n<p>This evening is about more than great entertainment. It&rsquo\;s about celebrating our community and supporting the institutions that make it strong.</p>\n\n<p>We would be honored to have you with us!<br />\n<strong>-Rodney Fong\, President &amp\; CEO of the San Francisco Chamber of Commerce</strong></p>\n
LOCATION:Cow Palace 2600 Geneva Avenue Daly City\, CA 94014
UID:e.2439.12879
SEQUENCE:3
DTSTAMP:20260422T065631Z
URL:https://business.sfchamber.com/events/details/meet-rodney-ceo-at-the-rodeo-12879
END:VEVENT

END:VCALENDAR
