BEGIN:VCALENDAR
VERSION:2.0
PRODID:-//ChamberMaster//Event Calendar 2.0//EN
METHOD:PUBLISH
X-PUBLISHED-TTL:P3D
REFRESH-INTERVAL:P3D
CALSCALE:GREGORIAN
BEGIN:VEVENT
DTSTART:20220427T170000Z
DTEND:20220427T173000Z
X-MICROSOFT-CDO-ALLDAYEVENT:FALSE
SUMMARY:Join our free live demo presentations to see ElliQ in action!
DESCRIPTION:Join our webinar to see ElliQ in action and learn about the amazing experience from one of our users. \n\n\n\nElliQ is the world's first empathetic care companion that empowers healthy\, happy independence at home. ElliQ is a proactive\, voice operated device that offers older adults companionship\, connection\, health and wellness support\, entertainment\, and more. With ElliQ\, older adults can define and track health and wellness goals\, enjoy conversations\, jokes and music\, set important reminders for events and appointments\, stay in touch with family and friends\, coordinate transportation\, and more!\n\n\n\nDuring this session\, we'll explain how ElliQ's proactive and empathetic design set her apart from all other voice-activated devices. You'll learn about her many capabilities\, including health and wellness support\, communication and connection features\, entertainment and news updates\, and concierge services to help with day-to-day activities. Plus\, plan to stick around so that we can answer your questions in real time.
X-ALT-DESC;FMTTYPE=text/html:Join our webinar to see ElliQ in action and learn about the amazing experience from one of our users.&nbsp\;<br />\n<br />\nElliQ is the world&rsquo\;s first empathetic care companion that empowers healthy\, happy independence at home. ElliQ is a proactive\, voice operated device that offers older adults companionship\, connection\, health and wellness support\, entertainment\, and more. With ElliQ\, older adults can define and track health and wellness goals\, enjoy conversations\, jokes and music\, set important reminders for events and appointments\, stay in touch with family and friends\, coordinate transportation\, and more!<br />\n<br />\nDuring this session\, we&#39\;ll explain how ElliQ&#39\;s proactive and empathetic design set her apart from all other voice-activated devices. You&#39\;ll learn about her many capabilities\, including health and wellness support\, communication and connection features\, entertainment and news updates\, and concierge services to help with day-to-day activities. Plus\, plan to stick around so that we can answer your questions in real time.
LOCATION:Register at https://elliq.com/pages/live-demo
UID:e.2439.11233
SEQUENCE:3
DTSTAMP:20260420T171734Z
URL:https://business.sfchamber.com/events/details/join-our-free-live-demo-presentations-to-see-elliq-in-action-11233
END:VEVENT

END:VCALENDAR
