BEGIN:VCALENDAR
VERSION:2.0
PRODID:-//ChamberMaster//Event Calendar 2.0//EN
METHOD:PUBLISH
X-PUBLISHED-TTL:P3D
REFRESH-INTERVAL:P3D
CALSCALE:GREGORIAN
BEGIN:VEVENT
DTSTART:20250916T150000Z
DTEND:20250917T010000Z
X-MICROSOFT-CDO-ALLDAYEVENT:FALSE
SUMMARY:Gusto Showcase 2025
DESCRIPTION:Gusto Showcase 2025\n\n \n\nGusto is hosting an exciting showcase event in San Francisco for small business owners! \n\n \n\nJoin them for hands-on demos of their latest productivity tools\, expert-led AMA sessions covering AI adoption and business resilience\, Community Circles for networking with like-minded professionals\, and complimentary professional headshots. \n\n \n\nThe experience includes a guided exploration of SF's vibrant Dogpatch neighborhood in collaboration with local business associations. \n\n \n\nThe day concludes with a networking happy hour to celebrate fresh ideas and forge new connections. This comprehensive event offers valuable insights and tools to help small businesses work smarter in today's evolving economy. \n\n \n\nLearn more here.
X-ALT-DESC;FMTTYPE=text/html:<br />\n<span style="font-size:16px\;"><span style="font-family:arial\;"><span style="font-size:20px\;"><span style="color:#161D26\;"><a href="https://xyzppguab.cc.rs6.net/tn.jsp?f=0010BvDvdt6z_UtJrOG0IIpDk6WauI0I9hCG3TkXAYtWu-cUCUtICSvnFMgBcNGbUDeNP72bYXEzYxmqa_ZNhx3LLWPiO08QYpcLPkI1mS692wNUiHbokyDJHbwiyo07Brr9PBOJ7JS57XyAOyiWY6slD29hAd6jWMQvVXo5yDTbgdcJtxDat6Q2JCOY7BgfnKX&amp\;c=H_nvsH1TeVIg79SiBFm0LOkQPUfxrRV0A_Uur98eeysp8vgWaKPUXw==&amp\;ch=ULd3vy4Vn1VPSgNRw2QIiIvhzd9kBw-KLCqwAgTocSxQcrFurP1JBw==" target="_blank"><strong><span style="text-decoration-line:none\;"><span style="color:#0e0e0e\;">Gusto Showcase 2025</span></span></strong></a></span></span><br />\n&nbsp\;<br />\n<span style="color:#050506\;">Gusto is hosting an exciting showcase event in San Francisco for small business owners! </span><br />\n&nbsp\;<br />\n<span style="color:#050506\;">Join them for hands-on demos of their latest productivity tools\, expert-led AMA sessions covering AI adoption and business resilience\, Community Circles for networking with like-minded professionals\, and complimentary professional headshots. </span><br />\n&nbsp\;<br />\n<span style="color:#050506\;">The experience includes a guided exploration of SF&#39\;s vibrant Dogpatch neighborhood in collaboration with local business associations. </span><br />\n&nbsp\;<br />\n<span style="color:#050506\;">The day concludes with a networking happy hour to celebrate fresh ideas and forge new connections. This comprehensive event offers valuable insights and tools to help small businesses work smarter in today&#39\;s evolving economy. </span><br />\n&nbsp\;<br />\n<span style="font-size:22px\;"><span style="color:#161D26\;"><a href="https://xyzppguab.cc.rs6.net/tn.jsp?f=0010BvDvdt6z_UtJrOG0IIpDk6WauI0I9hCG3TkXAYtWu-cUCUtICSvnEvbgvbLsr6lXhhAlmD2Y8ZKqQ9RFI7ImiMF-wYOW_Bn6WZciy8KnAx2toow0DmLZCK7jkUgeSjxXPsBlCPBiE1igfNno9G06v_Ek1MarC76Wa4p_oKZ06PZHgG_9Tiyng==&amp\;c=H_nvsH1TeVIg79SiBFm0LOkQPUfxrRV0A_Uur98eeysp8vgWaKPUXw==&amp\;ch=ULd3vy4Vn1VPSgNRw2QIiIvhzd9kBw-KLCqwAgTocSxQcrFurP1JBw==" target="_blank"><strong><span style="text-decoration-line:none\;"><span style="color:#988454\;">Learn more here.</span></span></strong></a></span></span></span></span><br />\n<br />\n<br />\n<br />\n&nbsp\;
LOCATION:San Francisco\, CA
UID:e.2439.12838
SEQUENCE:3
DTSTAMP:20260422T081715Z
URL:https://business.sfchamber.com/events/details/gusto-showcase-2025-12838
END:VEVENT

END:VCALENDAR
