BEGIN:VCALENDAR
VERSION:2.0
PRODID:-//ChamberMaster//Event Calendar 2.0//EN
METHOD:PUBLISH
X-PUBLISHED-TTL:P3D
REFRESH-INTERVAL:P3D
CALSCALE:GREGORIAN
BEGIN:VEVENT
DTSTART;VALUE=DATE:20251124
DTEND;VALUE=DATE:20260101
TRANSP:TRANSPARENT
X-MICROSOFT-CDO-ALLDAYEVENT:TRUE
SUMMARY:Great Big Game Show (Holiday Edition)
DESCRIPTION:Have Yourself a Merry Little Show-Down!\n\nStarting November 24th through NYE\, enjoy exclusive holiday mini-games perfect for family\, friends or co-workers and designed to bring cheer\, laughter and friendly competition to your holiday festivities!
X-ALT-DESC;FMTTYPE=text/html:<br />\n<strong>Have Yourself a Merry Little Show-Down!</strong><br />\n<span style="font-family:arial\,helvetica\,sans-serif\; font-size:small">Starting November 24th through NYE\, enjoy exclusive holiday mini-games perfect for family\, friends or co-workers and designed to bring cheer\, laughter and friendly competition to your holiday festivities!</span>
LOCATION:Once on Bay Street\, turn left on Mason\, then right on Beach. After parking\, walk to Jefferson Street ? Great Big Game Show is next to The Escape Game\, across from Boudin Bakery.
UID:e.2439.12880
SEQUENCE:3
DTSTAMP:20260422T031101Z
URL:https://business.sfchamber.com/events/details/great-big-game-show-holiday-edition-12880
END:VEVENT

END:VCALENDAR
