BEGIN:VCALENDAR
VERSION:2.0
PRODID:-//ChamberMaster//Event Calendar 2.0//EN
METHOD:PUBLISH
X-PUBLISHED-TTL:P3D
REFRESH-INTERVAL:P3D
CALSCALE:GREGORIAN
BEGIN:VEVENT
DTSTART:20250911T013000Z
DTEND:20250911T033000Z
X-MICROSOFT-CDO-ALLDAYEVENT:FALSE
SUMMARY:Fogo de Chao: National Caipirinha Day
DESCRIPTION:Join us at Bar Fogo to celebrate the national cocktail of Brazil with your favorite handcrafted caipirinha flavors\, including our limited-time Golden Hour   crafted with pineapple and mint. Experience these flavors alongside tastings of our classic fire-roasted cuts and mouthwatering Brazilian bar bites.\n\n \n\nINCLUDES PREMIUM FIRE-ROASTED CUT TASTINGS\, TWO PREMIUM\n\nCAIPIRINHAS & PASSED BAR BITES
X-ALT-DESC;FMTTYPE=text/html:<h3 style="text-align: center\;"><span style="font-size:13px">Join us at Bar Fogo to celebrate the national cocktail of Brazil with your favorite handcrafted caipirinha flavors\, including our limited-time Golden Hour &mdash\; crafted with pineapple and mint. Experience these flavors alongside tastings of our classic fire-roasted cuts and mouthwatering Brazilian bar bites.</span></h3>\n\n<div style="text-align: center\;">&nbsp\;</div>\n\n<p style="text-align: center\;">INCLUDES PREMIUM FIRE-ROASTED CUT TASTINGS\, TWO PREMIUM<br />\nCAIPIRINHAS &amp\; PASSED BAR BITES</p>\n<br />\n<br />\n&nbsp\;
LOCATION:Fodo de Chao San Francisco 201 3rd Street
UID:e.2439.12841
SEQUENCE:3
DTSTAMP:20260422T081841Z
URL:https://business.sfchamber.com/events/details/fogo-de-chao-national-caipirinha-day-12841
END:VEVENT

END:VCALENDAR
